BEGIN:VCALENDAR
PRODID:-
VERSION:2.0
BEGIN:VEVENT
DTSTART;VALUE=DATE:20250702
LOCATION:Al Siraat College
DTSTAMP:20260426T035351Z
SEQUENCE:0
SUMMARY:SoccaJoeys Grade 3 – 6
UID:16231@alsiraatcollege
END:VEVENT
END:VCALENDAR
