BEGIN:VCALENDAR
PRODID:-
VERSION:2.0
BEGIN:VEVENT
DTSTART;VALUE=DATE:20250705
LOCATION:Al Siraat College
DTSTAMP:20260426T040636Z
SEQUENCE:0
SUMMARY:Saturday Arabic Classes
UID:16245@alsiraatcollege
END:VEVENT
END:VCALENDAR
