BEGIN:VCALENDAR
PRODID:-
VERSION:2.0
BEGIN:VEVENT
DTSTART;VALUE=DATE:20250712
LOCATION:Al Siraat College
DTSTAMP:20260426T041250Z
SEQUENCE:0
SUMMARY:Saturday Arabic Classes
UID:16246@alsiraatcollege
END:VEVENT
END:VCALENDAR
