BEGIN:VCALENDAR
PRODID:-
VERSION:2.0
BEGIN:VEVENT
DTSTART;VALUE=DATE:20250719
LOCATION:Al Siraat College
DTSTAMP:20260426T035342Z
SEQUENCE:0
SUMMARY:Saturday Arabic Classes
UID:16247@alsiraatcollege
END:VEVENT
END:VCALENDAR
