BEGIN:VCALENDAR
PRODID:-
VERSION:2.0
BEGIN:VEVENT
DTSTART;VALUE=DATE:20250726
LOCATION:Al Siraat College
DTSTAMP:20260426T040749Z
SEQUENCE:0
SUMMARY:Saturday Arabic Classes
UID:16248@alsiraatcollege
END:VEVENT
END:VCALENDAR
