BEGIN:VCALENDAR
PRODID:-
VERSION:2.0
BEGIN:VEVENT
DTSTART;VALUE=DATE:20251213
LOCATION:Al Siraat College
DTSTAMP:20260426T033742Z
SEQUENCE:0
SUMMARY:Saturday Arabic Classes
UID:16269@alsiraatcollege
END:VEVENT
END:VCALENDAR
