BEGIN:VCALENDAR
PRODID:-
VERSION:2.0
BEGIN:VEVENT
DTSTART;VALUE=DATE:20250724
LOCATION:Al Siraat College
DTSTAMP:20260426T035651Z
SEQUENCE:0
SUMMARY:Year 3-6 Al Siraat Drummers
UID:16281@alsiraatcollege
END:VEVENT
END:VCALENDAR
