BEGIN:VCALENDAR
PRODID:-
VERSION:2.0
BEGIN:VEVENT
DTSTART;VALUE=DATE:20250702
LOCATION:Al Siraat College Oval K
DTSTAMP:20260426T040846Z
SEQUENCE:0
SUMMARY:Wednesday Walking Program
UID:16298@alsiraatcollege
END:VEVENT
END:VCALENDAR
