BEGIN:VCALENDAR
PRODID:-
VERSION:2.0
BEGIN:VEVENT
DTSTART;VALUE=DATE:20250818
LOCATION:Al Siraat College Auditorium
DTSTAMP:20260426T005821Z
SEQUENCE:0
SUMMARY:F-2 Production Rehearsals
UID:16323@alsiraatcollege
END:VEVENT
END:VCALENDAR
