BEGIN:VCALENDAR
PRODID:-
VERSION:2.0
BEGIN:VEVENT
DTSTART;VALUE=DATE:20250820
LOCATION:Al Siraat College Auditorium
DTSTAMP:20260425T212130Z
SEQUENCE:0
SUMMARY:F-2 Production Rehearsals
UID:16325@alsiraatcollege
END:VEVENT
END:VCALENDAR
