BEGIN:VCALENDAR
PRODID:-
VERSION:2.0
BEGIN:VEVENT
DTSTART;VALUE=DATE:20250731
DTSTAMP:20260426T040933Z
SEQUENCE:0
SUMMARY:Year 5 & 6 Whittlesea Division Primary Soccer Competition
UID:16348@alsiraatcollege
END:VEVENT
END:VCALENDAR
