BEGIN:VCALENDAR
PRODID:-
VERSION:2.0
BEGIN:VEVENT
DTSTART;VALUE=DATE:20250730
LOCATION:Al Siraat College Oval B
DTSTAMP:20260426T035521Z
SEQUENCE:0
SUMMARY:Year 1-6 Al Siraat Superkick Centre
UID:16357@alsiraatcollege
END:VEVENT
END:VCALENDAR
