BEGIN:VCALENDAR
PRODID:-
VERSION:2.0
BEGIN:VEVENT
DTSTART;VALUE=DATE:20250701
LOCATION:Al Siraat College
DTSTAMP:20260426T041249Z
SEQUENCE:0
SUMMARY:Sem 1 Quran Awards
UID:16374@alsiraatcollege
END:VEVENT
END:VCALENDAR
