BEGIN:VCALENDAR
PRODID:-
VERSION:2.0
BEGIN:VEVENT
DTSTART;TZID=Australia/Melbourne:20250707T000000Z
DTEND;TZID=Australia/Melbourne:20250711T000000Z
TRANSP:OPAQUE
DTSTAMP:20260426T040732Z
SEQUENCE:0
SUMMARY:Ilm Exams
UID:16382@alsiraatcollege
END:VEVENT
END:VCALENDAR
