BEGIN:VCALENDAR
PRODID:-
VERSION:2.0
BEGIN:VEVENT
DTSTART;VALUE=DATE:20250704
DTSTAMP:20260426T035451Z
SEQUENCE:0
SUMMARY:Years 1 – 6 classroom observations
UID:16384@alsiraatcollege
END:VEVENT
END:VCALENDAR
