BEGIN:VCALENDAR
PRODID:-
VERSION:2.0
BEGIN:VEVENT
DTSTART;VALUE=DATE:20250701
LOCATION:CERES Brunswick East
DTSTAMP:20260426T042005Z
SEQUENCE:0
SUMMARY:Year 3 CERES Excursion
UID:16386@alsiraatcollege
END:VEVENT
END:VCALENDAR
