BEGIN:VCALENDAR
PRODID:-
VERSION:2.0
BEGIN:VEVENT
DTSTART;VALUE=DATE:20250630
LOCATION:Al Siraat College
DTSTAMP:20260426T041248Z
SEQUENCE:0
SUMMARY:Songbirds Recording Nasheed Audio Y4-6
UID:16388@alsiraatcollege
END:VEVENT
END:VCALENDAR
