BEGIN:VCALENDAR
PRODID:-
VERSION:2.0
BEGIN:VEVENT
DTSTART;VALUE=DATE:20250630
LOCATION:Peppercorn Park Playground
DTSTAMP:20260426T041058Z
SEQUENCE:0
SUMMARY:Songbirds Nasheed Filming Excursion
UID:16390@alsiraatcollege
END:VEVENT
END:VCALENDAR
