BEGIN:VCALENDAR
PRODID:-
VERSION:2.0
BEGIN:VEVENT
DTSTART;TZID=Australia/Melbourne:20251201T000000Z
DTEND;TZID=Australia/Melbourne:20251205T000000Z
TRANSP:OPAQUE
DTSTAMP:20260419T181743Z
SEQUENCE:0
SUMMARY:Years 9 and 10 Exams
UID:16394@alsiraatcollege
END:VEVENT
END:VCALENDAR
