BEGIN:VCALENDAR
PRODID:-
VERSION:2.0
BEGIN:VEVENT
DTSTART;VALUE=DATE:20250701
LOCATION:Marymede Catholic College- 60 Williamson Rd, South Morang
DTSTAMP:20260426T040625Z
SEQUENCE:0
SUMMARY:Year 5/6 Girls AFL Gala Day
DESCRIPTION:Students participating in a round robin competition of AFL against schools in the Bridge Inn South District.
UID:16400@alsiraatcollege
END:VEVENT
END:VCALENDAR
