BEGIN:VCALENDAR
PRODID:-
VERSION:2.0
BEGIN:VEVENT
DTSTART;VALUE=DATE:20250714
DTSTAMP:20260426T040015Z
SEQUENCE:0
SUMMARY:Year 9/10 Boys: Holiday Program (Pastoral Care}
UID:16401@alsiraatcollege
END:VEVENT
END:VCALENDAR
