BEGIN:VCALENDAR
PRODID:-
VERSION:2.0
BEGIN:VEVENT
DTSTART;VALUE=DATE:20250730
DTSTAMP:20260426T035456Z
SEQUENCE:0
SUMMARY:Year 4A/B Excursion: Western Treatment Plant
UID:16404@alsiraatcollege
END:VEVENT
END:VCALENDAR
