BEGIN:VCALENDAR
PRODID:-
VERSION:2.0
BEGIN:VEVENT
DTSTART;VALUE=DATE:20250731
DTSTAMP:20260426T040506Z
SEQUENCE:0
SUMMARY:Year 4C/D Excursion: Western Treatment Plant
UID:16405@alsiraatcollege
END:VEVENT
END:VCALENDAR
