BEGIN:VCALENDAR
PRODID:-
VERSION:2.0
BEGIN:VEVENT
DTSTART;VALUE=DATE:20260126
DTSTAMP:20260419T143844Z
SEQUENCE:0
SUMMARY:Australia Day (Public Holiday)
UID:16407@alsiraatcollege
END:VEVENT
END:VCALENDAR
