BEGIN:VCALENDAR
PRODID:-
VERSION:2.0
BEGIN:VEVENT
DTSTART;TZID=Australia/Melbourne:20250715T000000Z
DTEND;TZID=Australia/Melbourne:20250716T000000Z
TRANSP:OPAQUE
DTSTAMP:20260426T040338Z
SEQUENCE:0
SUMMARY:Year 7/8 Boys: Holiday Program (Pastoral Care}
UID:16417@alsiraatcollege
END:VEVENT
END:VCALENDAR
