BEGIN:VCALENDAR
PRODID:-
VERSION:2.0
BEGIN:VEVENT
DTSTART;VALUE=DATE:20250717
LOCATION:Auditorium
DTSTAMP:20260426T040549Z
SEQUENCE:0
SUMMARY:Year 5/6 Boys: Living the Sunnah (Holiday Program)
UID:16418@alsiraatcollege
END:VEVENT
END:VCALENDAR
