BEGIN:VCALENDAR
PRODID:-
VERSION:2.0
BEGIN:VEVENT
DTSTART;VALUE=DATE:20250718
DTSTAMP:20260426T040541Z
SEQUENCE:0
SUMMARY:Year 5/6 Boys: Living the Sunnah (Holiday Program)
UID:16419@alsiraatcollege
END:VEVENT
END:VCALENDAR
