BEGIN:VCALENDAR
PRODID:-
VERSION:2.0
BEGIN:VEVENT
DTSTART;VALUE=DATE:20250730
DTSTAMP:20260426T035559Z
SEQUENCE:0
SUMMARY:Year 6/HifzB: Virtual Reality Incursion
DESCRIPTION:The Virtual Reality workshop will provide students with an immersive experience exploring animal adaptations in relation to their habitats. Students will investigate how changing physical conditions affect the growth and survival of living things. Through engaging VR scenarios, they will observe animals in action, learning about their classification, diet, camouflage, and physical adaptations. This interactive experience supports the curriculum objectives for 'Living Things & Their Habitats' and 'Animals,' offering a deeper understanding of the scientific concepts without the safety concerns of using real animals.
UID:16421@alsiraatcollege
END:VEVENT
END:VCALENDAR
