BEGIN:VCALENDAR
PRODID:-
VERSION:2.0
BEGIN:VEVENT
DTSTART;VALUE=DATE:20250730
DTSTAMP:20260426T040549Z
SEQUENCE:0
SUMMARY:Year 9 Interfaith: Visit to St Monica's College
UID:16422@alsiraatcollege
END:VEVENT
END:VCALENDAR
