BEGIN:VCALENDAR
PRODID:-
VERSION:2.0
BEGIN:VEVENT
DTSTART;VALUE=DATE:20250724
LOCATION:Year 2 classrooms
DTSTAMP:20260426T040338Z
SEQUENCE:0
SUMMARY:Year 2 Parents: Homework Information Session
UID:16436@alsiraatcollege
END:VEVENT
END:VCALENDAR
