BEGIN:VCALENDAR
PRODID:-
VERSION:2.0
BEGIN:VEVENT
DTSTART;VALUE=DATE:20250731
LOCATION:Coburg
DTSTAMP:20260426T041221Z
SEQUENCE:0
SUMMARY:Year 7 & 8 Girls SSV Futsal
UID:16442@alsiraatcollege
END:VEVENT
END:VCALENDAR
