BEGIN:VCALENDAR
PRODID:-
VERSION:2.0
BEGIN:VEVENT
DTSTART;VALUE=DATE:20250725
LOCATION:Horse Riding Arena
DTSTAMP:20260426T040732Z
SEQUENCE:0
SUMMARY:Equestrian After School Program
UID:16443@alsiraatcollege
END:VEVENT
END:VCALENDAR
