BEGIN:VCALENDAR
PRODID:-
VERSION:2.0
BEGIN:VEVENT
DTSTART;VALUE=DATE:20250722
DTSTAMP:20260426T035739Z
SEQUENCE:0
SUMMARY:Equestrian After School Program
UID:16445@alsiraatcollege
END:VEVENT
END:VCALENDAR
