BEGIN:VCALENDAR
PRODID:-
VERSION:2.0
BEGIN:VEVENT
DTSTART;VALUE=DATE:20250729
DTSTAMP:20260426T041052Z
SEQUENCE:0
SUMMARY:Equestrian After School Program
UID:16446@alsiraatcollege
END:VEVENT
END:VCALENDAR
