BEGIN:VCALENDAR
PRODID:-
VERSION:2.0
BEGIN:VEVENT
DTSTART;VALUE=DATE:20250730
DTSTAMP:20260426T040926Z
SEQUENCE:0
SUMMARY:Equestrian After School Program
UID:16447@alsiraatcollege
END:VEVENT
END:VCALENDAR
