BEGIN:VCALENDAR
PRODID:-
VERSION:2.0
BEGIN:VEVENT
DTSTART;VALUE=DATE:20250801
DTSTAMP:20260426T040027Z
SEQUENCE:0
SUMMARY:Equestrian After School Program
UID:16448@alsiraatcollege
END:VEVENT
END:VCALENDAR
