BEGIN:VCALENDAR
PRODID:-
VERSION:2.0
BEGIN:VEVENT
DTSTART;VALUE=DATE:20250820
DTSTAMP:20260425T210403Z
SEQUENCE:0
SUMMARY:Equestrian After School Program
UID:16464@alsiraatcollege
END:VEVENT
END:VCALENDAR
