BEGIN:VCALENDAR
PRODID:-
VERSION:2.0
BEGIN:VEVENT
DTSTART;VALUE=DATE:20251202
DTSTAMP:20260426T024946Z
SEQUENCE:0
SUMMARY:Equestrian After School Program
UID:16491@alsiraatcollege
END:VEVENT
END:VCALENDAR
