BEGIN:VCALENDAR
PRODID:-
VERSION:2.0
BEGIN:VEVENT
DTSTART;VALUE=DATE:20250724
LOCATION:Auditorium
DTSTAMP:20260426T035838Z
SEQUENCE:0
SUMMARY:Years 3 – 6: After School Martial Arts/Taekwondo
UID:16499@alsiraatcollege
END:VEVENT
END:VCALENDAR
