BEGIN:VCALENDAR
PRODID:-
VERSION:2.0
BEGIN:VEVENT
DTSTART;VALUE=DATE:20250731
DTSTAMP:20260426T040625Z
SEQUENCE:0
SUMMARY:Years 3 – 6: After School Martial Arts/Taekwondo
UID:16500@alsiraatcollege
END:VEVENT
END:VCALENDAR
