BEGIN:VCALENDAR
PRODID:-
VERSION:2.0
BEGIN:VEVENT
DTSTART;VALUE=DATE:20250722
LOCATION:Auditorium
DTSTAMP:20260426T040348Z
SEQUENCE:0
SUMMARY:Years F – 2: After School Martial Arts/Taekwondo
UID:16507@alsiraatcollege
END:VEVENT
END:VCALENDAR
