BEGIN:VCALENDAR
PRODID:-
VERSION:2.0
BEGIN:VEVENT
DTSTART;VALUE=DATE:20250729
DTSTAMP:20260426T040749Z
SEQUENCE:0
SUMMARY:Years F – 2: After School Martial Arts/Taekwondo
UID:16508@alsiraatcollege
END:VEVENT
END:VCALENDAR
