BEGIN:VCALENDAR
PRODID:-
VERSION:2.0
BEGIN:VEVENT
DTSTART;VALUE=DATE:20250724
LOCATION:Basketball court
DTSTAMP:20260426T040440Z
SEQUENCE:0
SUMMARY:Years F – 6: After School Aussie Basketball Hoop Time
UID:16518@alsiraatcollege
END:VEVENT
END:VCALENDAR
