BEGIN:VCALENDAR
PRODID:-
VERSION:2.0
BEGIN:VEVENT
DTSTART;VALUE=DATE:20250731
LOCATION:Basketball court
DTSTAMP:20260426T035915Z
SEQUENCE:0
SUMMARY:Years F – 6: After School Aussie Basketball Hoop Time
UID:16519@alsiraatcollege
END:VEVENT
END:VCALENDAR
