BEGIN:VCALENDAR
PRODID:-
VERSION:2.0
BEGIN:VEVENT
DTSTART;VALUE=DATE:20250821
DTSTAMP:20260425T195958Z
SEQUENCE:0
SUMMARY:Years F – 6: After School Aussie Basketball Hoop Time
UID:16522@alsiraatcollege
END:VEVENT
END:VCALENDAR
