BEGIN:VCALENDAR
PRODID:-
VERSION:2.0
BEGIN:VEVENT
DTSTART;VALUE=DATE:20250725
DTSTAMP:20260426T040305Z
SEQUENCE:0
SUMMARY:Primary After School Program: Northern Goju Karate
UID:16531@alsiraatcollege
END:VEVENT
END:VCALENDAR
