BEGIN:VCALENDAR
PRODID:-
VERSION:2.0
BEGIN:VEVENT
DTSTART;VALUE=DATE:20250801
DTSTAMP:20260426T035342Z
SEQUENCE:0
SUMMARY:Primary After School Program: Northern Goju Karate
UID:16532@alsiraatcollege
END:VEVENT
END:VCALENDAR
