BEGIN:VCALENDAR
PRODID:-
VERSION:2.0
BEGIN:VEVENT
DTSTART;VALUE=DATE:20250819
DTSTAMP:20260425T231352Z
SEQUENCE:0
SUMMARY:Year 1: Book Week Picnic
UID:16541@alsiraatcollege
END:VEVENT
END:VCALENDAR
