BEGIN:VCALENDAR
PRODID:-
VERSION:2.0
BEGIN:VEVENT
DTSTART;VALUE=DATE:20250818
DTSTAMP:20260426T005547Z
SEQUENCE:0
SUMMARY:Foundation Book Week Picnic
UID:16542@alsiraatcollege
END:VEVENT
END:VCALENDAR
