BEGIN:VCALENDAR
PRODID:-
VERSION:2.0
BEGIN:VEVENT
DTSTART;VALUE=DATE:20250801
DTSTAMP:20260426T035657Z
SEQUENCE:0
SUMMARY:Year 9KLIC Real Life Learning: Reflective Nature Walk
UID:16544@alsiraatcollege
END:VEVENT
END:VCALENDAR
